BEGIN:VCALENDAR
VERSION:2.0
METHOD:PUBLISH
PRODID:-//Telerik Inc.//Sitefinity CMS 15.4//EN
BEGIN:VTIMEZONE
TZID:Pacific Standard Time
BEGIN:STANDARD
DTSTART:20251102T020000
RRULE:FREQ=YEARLY;BYDAY=1SU;BYHOUR=2;BYMINUTE=0;BYMONTH=11
TZNAME:Pacific Standard Time
TZOFFSETFROM:-0700
TZOFFSETTO:-0800
END:STANDARD
BEGIN:DAYLIGHT
DTSTART:20250301T020000
RRULE:FREQ=YEARLY;BYDAY=2SU;BYHOUR=2;BYMINUTE=0;BYMONTH=3
TZNAME:Pacific Daylight Time
TZOFFSETFROM:-0800
TZOFFSETTO:-0700
END:DAYLIGHT
END:VTIMEZONE
BEGIN:VEVENT
DESCRIPTION:WR Leadership Conference\, Suncadia Resort\, Cle Elum\, WA\n(Me
 mbers serving on 2026 Executive Committee)&nbsp\;\n\nPlease direct any que
 stions regarding this event to Stacie.Weedon@warealtor.org\n\n\n
DTEND:20261017T003000Z
DTSTAMP:20260419T225712Z
DTSTART:20261014T153000Z
LOCATION:WA\,USA\,Cle Elum\,3600 Suncadia Trail
SEQUENCE:0
SUMMARY:WR Leadership Conference
UID:RFCALITEM639122362320045106
X-ALT-DESC;FMTTYPE=text/html:<em><strong>WR Leadership Conference\, Suncadi
 a Resort\, Cle Elum\, WA</strong><br>\n(Members serving on 2026 Executive 
 Committee)&nbsp\;<br>\n<br>\nPlease direct any questions regarding this ev
 ent to <a href="mailto:Stacie.Weedon@warealtor.org">Stacie.Weedon@warealto
 r.org</a><br>\n</em>\n<div><em><br>\n</em></div>
END:VEVENT
END:VCALENDAR
