BEGIN:VCALENDAR
VERSION:2.0
METHOD:PUBLISH
PRODID:-//Telerik Inc.//Sitefinity CMS 15.4//EN
BEGIN:VTIMEZONE
TZID:Pacific Standard Time
BEGIN:STANDARD
DTSTART:20251102T020000
RRULE:FREQ=YEARLY;BYDAY=1SU;BYHOUR=2;BYMINUTE=0;BYMONTH=11
TZNAME:Pacific Standard Time
TZOFFSETFROM:-0700
TZOFFSETTO:-0800
END:STANDARD
BEGIN:DAYLIGHT
DTSTART:20250301T020000
RRULE:FREQ=YEARLY;BYDAY=2SU;BYHOUR=2;BYMINUTE=0;BYMONTH=3
TZNAME:Pacific Daylight Time
TZOFFSETFROM:-0800
TZOFFSETTO:-0700
END:DAYLIGHT
END:VTIMEZONE
BEGIN:VEVENT
DESCRIPTION:WR Officer Orientation – Washington Athletic Club\, Seattle\n\n
 More details coming soon... Please direct any questions to&nbsp\;Alissa.Bl
 anchard@warealtor.org.&nbsp\;
DTEND:20260109T013000Z
DTSTAMP:20260424T172214Z
DTSTART:20260107T163000Z
LOCATION:WA\,USA\,Seattle\,Washington Athletic Club
SEQUENCE:0
SUMMARY:WR Officer Orientation
UID:RFCALITEM639126481343078754
X-ALT-DESC;FMTTYPE=text/html:<strong><em>WR Officer Orientation – Washingto
 n Athletic Club\, Seattle<br>\n<br>\n</em></strong><em>More details coming
  soon... Please direct any questions to&nbsp\;<a href="mailto:Alissa.Blanc
 hard@warealtor.org">Alissa.Blanchard@warealtor.org</a>.&nbsp\;</em>
END:VEVENT
END:VCALENDAR
