BEGIN:VCALENDAR
VERSION:2.0
METHOD:PUBLISH
PRODID:-//Telerik Inc.//Sitefinity CMS 15.4//EN
BEGIN:VTIMEZONE
TZID:Pacific Standard Time
BEGIN:STANDARD
DTSTART:20251102T020000
RRULE:FREQ=YEARLY;BYDAY=1SU;BYHOUR=2;BYMINUTE=0;BYMONTH=11
TZNAME:Pacific Standard Time
TZOFFSETFROM:-0700
TZOFFSETTO:-0800
END:STANDARD
BEGIN:DAYLIGHT
DTSTART:20250301T020000
RRULE:FREQ=YEARLY;BYDAY=2SU;BYHOUR=2;BYMINUTE=0;BYMONTH=3
TZNAME:Pacific Daylight Time
TZOFFSETFROM:-0800
TZOFFSETTO:-0700
END:DAYLIGHT
END:VTIMEZONE
BEGIN:VEVENT
DESCRIPTION:WR Fall Conference – The Centennial by Davenport - Spokane\n\nM
 ore details coming soon!&nbsp\;
DTEND:20260926T003000Z
DTSTAMP:20260419T190531Z
DTSTART:20260923T153000Z
LOCATION:WA\,USA\,Spokane\,303 W North River Dr
SEQUENCE:0
SUMMARY:WR Fall Conference
UID:RFCALITEM639122223313820556
X-ALT-DESC;FMTTYPE=text/html:<em><strong>WR Fall Conference – The Centennia
 l by Davenport - Spokane<br>\n</strong><br>\nMore details coming soon!&nbs
 p\;</em>
END:VEVENT
END:VCALENDAR
