BEGIN:VCALENDAR
VERSION:2.0
METHOD:PUBLISH
PRODID:-//Telerik Inc.//Sitefinity CMS 15.4//EN
BEGIN:VTIMEZONE
TZID:Pacific Standard Time
BEGIN:STANDARD
DTSTART:20251102T020000
RRULE:FREQ=YEARLY;BYDAY=1SU;BYHOUR=2;BYMINUTE=0;BYMONTH=11
TZNAME:Pacific Standard Time
TZOFFSETFROM:-0700
TZOFFSETTO:-0800
END:STANDARD
BEGIN:DAYLIGHT
DTSTART:20250301T020000
RRULE:FREQ=YEARLY;BYDAY=2SU;BYHOUR=2;BYMINUTE=0;BYMONTH=3
TZNAME:Pacific Daylight Time
TZOFFSETFROM:-0800
TZOFFSETTO:-0700
END:DAYLIGHT
END:VTIMEZONE
BEGIN:VEVENT
DESCRIPTION:Ignite is a one-day\, high-impact leadership event focused on p
 ersonal and professional growth. Whether you're already in a leadership ro
 le or just beginning to explore your potential\, this experience will help
  you strengthen your leadership skills and unlock your full potential. Joi
 n us for a day of inspiration and development! Sign up for a day of fast-p
 aced\, high-energy fun. Participate\, connect and end the day with a chill
  networking cocktail hour&nbsp\;(included in your registration)!&nbsp\;
DTEND:20251031T000000Z
DTSTAMP:20260419T165447Z
DTSTART:20251030T160000Z
LOCATION:Washington\,United States\,Seattle\,9404 E Marginal Way South
SEQUENCE:0
SUMMARY:Ignite Leadership Event
UID:RFCALITEM639122144873611772
X-ALT-DESC;FMTTYPE=text/html:Ignite is a one-day\, high-impact leadership e
 vent focused on personal and professional growth. Whether you're already i
 n a leadership role or just beginning to explore your potential\, this exp
 erience will help you strengthen your leadership skills and unlock your fu
 ll potential. Join us for a day of inspiration and development! Sign up fo
 r a day of fast-paced\, high-energy fun. Participate\, connect and end the
  day with a chill networking cocktail hour&nbsp\;<em>(included in your reg
 istration)</em>!&nbsp\;
END:VEVENT
END:VCALENDAR
